BEGIN:VCALENDAR
VERSION:2.0
PRODID:-//SN Fußballplan - ECPv4.5.10.1//NONSGML v1.0//EN
CALSCALE:GREGORIAN
METHOD:PUBLISH
X-WR-CALNAME:SN Fußballplan
X-ORIGINAL-URL:http://fussballplan.sn-server.de
X-WR-CALDESC:Events for SN Fußballplan
BEGIN:VEVENT
DTSTART;TZID=Europe/Berlin:20170928T190000
DTEND;TZID=Europe/Berlin:20170928T210000
DTSTAMP:20260425T155238
CREATED:20170821T141609Z
LAST-MODIFIED:20170829T151029Z
UID:170-1506625200-1506632400@fussballplan.sn-server.de
SUMMARY:1. FC Köln - Red Star Belgrad (Sky)
DESCRIPTION:Live-Übetragung auf Sky. \n
URL:http://fussballplan.sn-server.de/index.php/event/borussia-dortmund-1-fc-koeln-sky-4-2-2-2/
LOCATION:Köln\, Deutschland
CATEGORIES:Europa League
END:VEVENT
END:VCALENDAR