BEGIN:VCALENDAR
VERSION:2.0
PRODID:-//SN Fußballplan - ECPv4.5.10.1//NONSGML v1.0//EN
CALSCALE:GREGORIAN
METHOD:PUBLISH
X-WR-CALNAME:SN Fußballplan
X-ORIGINAL-URL:http://fussballplan.sn-server.de
X-WR-CALDESC:Events for SN Fußballplan
BEGIN:VEVENT
DTSTART;TZID=Europe/Berlin:20170914T210500
DTEND;TZID=Europe/Berlin:20170914T230000
DTSTAMP:20260425T172918
CREATED:20170821T141609Z
LAST-MODIFIED:20170831T112516Z
UID:160-1505423100-1505430000@fussballplan.sn-server.de
SUMMARY:FREE: FC Arsenal - 1. FC Köln (Sport1)
DESCRIPTION:Live-Übetragung im Free-TV auf Sport1. \n
URL:http://fussballplan.sn-server.de/index.php/event/borussia-dortmund-1-fc-koeln-sky-4-2-2/
LOCATION:London\, Großbritannien (Vereinigtes Königreich)
CATEGORIES:Europa League
END:VEVENT
END:VCALENDAR