BEGIN:VCALENDAR
VERSION:2.0
PRODID:-//SN Fußballplan - ECPv4.5.10.1//NONSGML v1.0//EN
CALSCALE:GREGORIAN
METHOD:PUBLISH
X-WR-CALNAME:SN Fußballplan
X-ORIGINAL-URL:http://fussballplan.sn-server.de
X-WR-CALDESC:Events for SN Fußballplan
BEGIN:VEVENT
DTSTART;TZID=Europe/Berlin:20170928T210500
DTEND;TZID=Europe/Berlin:20170928T230000
DTSTAMP:20260425T155357
CREATED:20170821T141609Z
LAST-MODIFIED:20170829T151241Z
UID:173-1506632700-1506639600@fussballplan.sn-server.de
SUMMARY:PFK Ludogoretz Rasgrad -  1899 Hoffenheim (Sky)
DESCRIPTION:Live-Übetragung auf Sky. \n
URL:http://fussballplan.sn-server.de/index.php/event/borussia-dortmund-1-fc-koeln-sky-4-2-4/
LOCATION:Razgad\, Bulgarien
CATEGORIES:Europa League
END:VEVENT
END:VCALENDAR