BEGIN:VCALENDAR
VERSION:2.0
PRODID:-//SN Fußballplan - ECPv4.5.10.1//NONSGML v1.0//EN
CALSCALE:GREGORIAN
METHOD:PUBLISH
X-WR-CALNAME:SN Fußballplan
X-ORIGINAL-URL:http://fussballplan.sn-server.de
X-WR-CALDESC:Events for SN Fußballplan
BEGIN:VEVENT
DTSTART;TZID=Europe/Berlin:20170914T190000
DTEND;TZID=Europe/Berlin:20170914T210000
DTSTAMP:20260425T172815
CREATED:20170821T141609Z
LAST-MODIFIED:20170829T144355Z
UID:154-1505415600-1505422800@fussballplan.sn-server.de
SUMMARY:TSG 1899 Hoffenheim - Sporting Braga (Sky)
DESCRIPTION:Live-Übetragung auf Sky. \n
URL:http://fussballplan.sn-server.de/index.php/event/borussia-dortmund-1-fc-koeln-sky-4/
LOCATION:Sinsheim\, Deutschland
CATEGORIES:Europa League
END:VEVENT
END:VCALENDAR