BEGIN:VCALENDAR
VERSION:2.0
PRODID:-//SN Fußballplan - ECPv4.5.10.1//NONSGML v1.0//EN
CALSCALE:GREGORIAN
METHOD:PUBLISH
X-WR-CALNAME:SN Fußballplan
X-ORIGINAL-URL:http://fussballplan.sn-server.de
X-WR-CALDESC:Events for SN Fußballplan
BEGIN:VEVENT
DTSTART;TZID=Europe/Berlin:20170919T203000
DTEND;TZID=Europe/Berlin:20170919T223000
DTSTAMP:20260425T172816
CREATED:20170821T141609Z
LAST-MODIFIED:20170914T124524Z
UID:181-1505853000-1505860200@fussballplan.sn-server.de
SUMMARY:VfL Wolfsburg - SV Werder Bremen (Sky)
DESCRIPTION:Live-Übetragung auf Sky. \n
URL:http://fussballplan.sn-server.de/index.php/event/borussia-dortmund-1-fc-koeln-sky-5/
CATEGORIES:Bundesliga
END:VEVENT
END:VCALENDAR