BEGIN:VCALENDAR
VERSION:2.0
PRODID:-//SN Fußballplan - ECPv4.5.10.1//NONSGML v1.0//EN
CALSCALE:GREGORIAN
METHOD:PUBLISH
X-WR-CALNAME:SN Fußballplan
X-ORIGINAL-URL:http://fussballplan.sn-server.de
X-WR-CALDESC:Events for SN Fußballplan
BEGIN:VEVENT
DTSTART;TZID=Europe/Berlin:20170826T183000
DTEND;TZID=Europe/Berlin:20170826T201500
DTSTAMP:20260425T185602
CREATED:20170821T141349Z
LAST-MODIFIED:20170821T142514Z
UID:55-1503772200-1503778500@fussballplan.sn-server.de
SUMMARY:Borussia Dortmund - Hertha BSC (Sky)
DESCRIPTION:Live-Übetragung auf Sky. \n
URL:http://fussballplan.sn-server.de/index.php/event/borussia-dortmund-hertha-bsc-sky/
CATEGORIES:Bundesliga
END:VEVENT
END:VCALENDAR