BEGIN:VCALENDAR
VERSION:2.0
PRODID:-//SN Fußballplan - ECPv4.5.10.1//NONSGML v1.0//EN
CALSCALE:GREGORIAN
METHOD:PUBLISH
X-WR-CALNAME:SN Fußballplan
X-ORIGINAL-URL:http://fussballplan.sn-server.de
X-WR-CALDESC:Events for SN Fußballplan
BEGIN:VEVENT
DTSTART;TZID=Europe/Berlin:20170909T153000
DTEND;TZID=Europe/Berlin:20170909T171500
DTSTAMP:20260425T172935
CREATED:20170821T140546Z
LAST-MODIFIED:20170821T144032Z
UID:72-1504971000-1504977300@fussballplan.sn-server.de
SUMMARY:Borussia Mönchengladbach - Eintracht Frankfurt (Sky)
DESCRIPTION:Live-Übetragung auf Sky. \n
URL:http://fussballplan.sn-server.de/index.php/event/borussia-moenchengladbach-eintracht-frankfurt-sky/
CATEGORIES:Bundesliga
END:VEVENT
END:VCALENDAR