BEGIN:VCALENDAR
VERSION:2.0
PRODID:-//SN Fußballplan - ECPv4.5.10.1//NONSGML v1.0//EN
CALSCALE:GREGORIAN
METHOD:PUBLISH
X-WR-CALNAME:SN Fußballplan
X-ORIGINAL-URL:http://fussballplan.sn-server.de
X-WR-CALDESC:Events for SN Fußballplan
BEGIN:VEVENT
DTSTART;TZID=Europe/Berlin:20170916T153000
DTEND;TZID=Europe/Berlin:20170916T171500
DTSTAMP:20260425T185822
CREATED:20170821T140546Z
LAST-MODIFIED:20170822T091402Z
UID:128-1505575800-1505582100@fussballplan.sn-server.de
SUMMARY:FC Bayern München - 1. FSV Mainz 05 (Sky)
DESCRIPTION:Live-Übetragung auf Sky. \n
URL:http://fussballplan.sn-server.de/index.php/event/fc-bayern-muenchen-1-fsv-mainz-05-sky/
CATEGORIES:Bundesliga
END:VEVENT
END:VCALENDAR