BEGIN:VCALENDAR
VERSION:2.0
PRODID:-//SN Fußballplan - ECPv4.5.10.1//NONSGML v1.0//EN
CALSCALE:GREGORIAN
METHOD:PUBLISH
X-WR-CALNAME:SN Fußballplan
X-ORIGINAL-URL:http://fussballplan.sn-server.de
X-WR-CALDESC:Events for SN Fußballplan
BEGIN:VEVENT
DTSTART;TZID=Europe/Berlin:20170823T204500
DTEND;TZID=Europe/Berlin:20170823T223000
DTSTAMP:20260425T185718
CREATED:20170821T154945Z
LAST-MODIFIED:20170822T080543Z
UID:118-1503521100-1503527400@fussballplan.sn-server.de
SUMMARY:FC Kopenhagen – Qarabag Agdam (Sky)
DESCRIPTION:Sky Sport 7 & HD exklusiv\nAlle Spiele in der Original Sky Konferenz (Sky Sport 1 & HD exklusiv) \n
URL:http://fussballplan.sn-server.de/index.php/event/fc-kopenhagen-qarabag-agdam-sky/
CATEGORIES:Champions League
END:VEVENT
END:VCALENDAR