BEGIN:VCALENDAR
VERSION:2.0
PRODID:-//SN Fußballplan - ECPv4.5.10.1//NONSGML v1.0//EN
CALSCALE:GREGORIAN
METHOD:PUBLISH
X-WR-CALNAME:SN Fußballplan
X-ORIGINAL-URL:http://fussballplan.sn-server.de
X-WR-CALDESC:Events for SN Fußballplan
BEGIN:VEVENT
DTSTART;TZID=Europe/Berlin:20170819T153000
DTEND;TZID=Europe/Berlin:20170819T170000
DTSTAMP:20260425T185720
CREATED:20170819T151434Z
LAST-MODIFIED:20170819T151504Z
UID:15-1503156600-1503162000@fussballplan.sn-server.de
SUMMARY:Hamburger SV - FC Augsburg (Sky)
DESCRIPTION:Live Übetragung auf Sky. \n
URL:http://fussballplan.sn-server.de/index.php/event/hamburger-sv-fc-augsburg-sky/
CATEGORIES:Bundesliga
END:VEVENT
END:VCALENDAR