BEGIN:VCALENDAR
VERSION:2.0
PRODID:-//SN Fußballplan - ECPv4.5.10.1//NONSGML v1.0//EN
CALSCALE:GREGORIAN
METHOD:PUBLISH
X-WR-CALNAME:SN Fußballplan
X-ORIGINAL-URL:http://fussballplan.sn-server.de
X-WR-CALDESC:Events for SN Fußballplan
BEGIN:VEVENT
DTSTART;TZID=Europe/Berlin:20170827T180000
DTEND;TZID=Europe/Berlin:20170827T194500
DTSTAMP:20260425T185833
CREATED:20170821T141609Z
LAST-MODIFIED:20170821T142619Z
UID:59-1503856800-1503863100@fussballplan.sn-server.de
SUMMARY:Hannover 96 - FC Schalke 04 (Sky)
DESCRIPTION:Live-Übetragung auf Sky. \n
URL:http://fussballplan.sn-server.de/index.php/event/hannover-96-fc-schalke-04-sky/
CATEGORIES:Bundesliga
END:VEVENT
END:VCALENDAR