BEGIN:VCALENDAR
VERSION:2.0
PRODID:-//SN Fußballplan - ECPv4.5.10.1//NONSGML v1.0//EN
CALSCALE:GREGORIAN
METHOD:PUBLISH
X-WR-CALNAME:SN Fußballplan
X-ORIGINAL-URL:http://fussballplan.sn-server.de
X-WR-CALDESC:Events for SN Fußballplan
BEGIN:VEVENT
DTSTART;TZID=Europe/Berlin:20170915T203000
DTEND;TZID=Europe/Berlin:20170915T221500
DTSTAMP:20260425T172928
CREATED:20170821T140049Z
LAST-MODIFIED:20170822T090906Z
UID:126-1505507400-1505513700@fussballplan.sn-server.de
SUMMARY:Hannover 96 - Hamburger SV (Eurosport)
DESCRIPTION:Live Übetragung im Eurosport Player oder im Eurosport Paket von HD+ \n
URL:http://fussballplan.sn-server.de/index.php/event/hannover-96-hamburger-sv-eurosport/
CATEGORIES:Bundesliga
END:VEVENT
END:VCALENDAR