BEGIN:VCALENDAR
VERSION:2.0
PRODID:-//SN Fußballplan - ECPv4.5.10.1//NONSGML v1.0//EN
CALSCALE:GREGORIAN
METHOD:PUBLISH
X-WR-CALNAME:SN Fußballplan
X-ORIGINAL-URL:http://fussballplan.sn-server.de
X-WR-CALDESC:Events for SN Fußballplan
BEGIN:VEVENT
DTSTART;TZID=Europe/Berlin:20170819T153000
DTEND;TZID=Europe/Berlin:20170819T170000
DTSTAMP:20260425T185443
CREATED:20170819T152125Z
LAST-MODIFIED:20170821T135636Z
UID:21-1503156600-1503162000@fussballplan.sn-server.de
SUMMARY:Hertha BSC - VfB Stuttgart (Sky)
DESCRIPTION:Live-Übetragung auf Sky. \n
URL:http://fussballplan.sn-server.de/index.php/event/hertha-bsc-vfb-stuttgart/
CATEGORIES:Bundesliga
END:VEVENT
END:VCALENDAR