BEGIN:VCALENDAR
VERSION:2.0
PRODID:-//SN Fußballplan - ECPv4.5.10.1//NONSGML v1.0//EN
CALSCALE:GREGORIAN
METHOD:PUBLISH
X-WR-CALNAME:SN Fußballplan
X-ORIGINAL-URL:http://fussballplan.sn-server.de
X-WR-CALDESC:Events for SN Fußballplan
BEGIN:VEVENT
DTSTART;TZID=Europe/Berlin:20170822T204500
DTEND;TZID=Europe/Berlin:20170822T223000
DTSTAMP:20260425T185539
CREATED:20170821T154945Z
LAST-MODIFIED:20170822T074016Z
UID:90-1503434700-1503441000@fussballplan.sn-server.de
SUMMARY:NK Maribor - Hapoel Beer-Sheva (Sky)
DESCRIPTION:Sky Sport 5 & HD exklusiv\nAlle Spiele in der Original Sky Konferenz (Sky Sport 1 & HD exklusiv) \n
URL:http://fussballplan.sn-server.de/index.php/event/maribor-h-beer-sheva-sky/
CATEGORIES:Champions League
END:VEVENT
END:VCALENDAR