BEGIN:VCALENDAR
VERSION:2.0
PRODID:-//SN Fußballplan - ECPv4.5.10.1//NONSGML v1.0//EN
CALSCALE:GREGORIAN
METHOD:PUBLISH
X-WR-CALNAME:SN Fußballplan
X-ORIGINAL-URL:http://fussballplan.sn-server.de
X-WR-CALDESC:Events for SN Fußballplan
BEGIN:VEVENT
DTSTART;TZID=Europe/Berlin:20170827T153000
DTEND;TZID=Europe/Berlin:20170827T171500
DTSTAMP:20260425T204725
CREATED:20170821T141502Z
LAST-MODIFIED:20170821T142556Z
UID:57-1503847800-1503854100@fussballplan.sn-server.de
SUMMARY:RB Leipzig - Sport-Club Freiburg (Sky)
DESCRIPTION:Live-Übetragung auf Sky. \n
URL:http://fussballplan.sn-server.de/index.php/event/rb-leipzig-sport-club-freiburg-sky/
CATEGORIES:Bundesliga
END:VEVENT
END:VCALENDAR