BEGIN:VCALENDAR
VERSION:2.0
PRODID:-//SN Fußballplan - ECPv4.5.10.1//NONSGML v1.0//EN
CALSCALE:GREGORIAN
METHOD:PUBLISH
X-WR-CALNAME:SN Fußballplan
X-ORIGINAL-URL:http://fussballplan.sn-server.de
X-WR-CALDESC:Events for SN Fußballplan
BEGIN:VEVENT
DTSTART;TZID=Europe/Berlin:20170909T183000
DTEND;TZID=Europe/Berlin:20170909T201500
DTSTAMP:20260425T172936
CREATED:20170821T141349Z
LAST-MODIFIED:20170821T153903Z
UID:82-1504981800-1504988100@fussballplan.sn-server.de
SUMMARY:TSG 1899 Hoffenheim - FC Bayern München (Sky)
DESCRIPTION:Live-Übetragung auf Sky. \n
URL:http://fussballplan.sn-server.de/index.php/event/tsg-1899-hoffenheim-fc-bayern-muenchen-sky/
CATEGORIES:Bundesliga
END:VEVENT
END:VCALENDAR