BEGIN:VCALENDAR
VERSION:2.0
PRODID:-//SN Fußballplan - ECPv4.5.10.1//NONSGML v1.0//EN
CALSCALE:GREGORIAN
METHOD:PUBLISH
X-WR-CALNAME:SN Fußballplan
X-ORIGINAL-URL:http://fussballplan.sn-server.de
X-WR-CALDESC:Events for SN Fußballplan
BEGIN:VEVENT
DTSTART;TZID=Europe/Berlin:20170923T153000
DTEND;TZID=Europe/Berlin:20170923T173000
DTSTAMP:20260425T172626
CREATED:20170821T141502Z
LAST-MODIFIED:20170914T125912Z
UID:205-1506180600-1506187800@fussballplan.sn-server.de
SUMMARY:RB Leipzig - Eintracht Frankfurt (Sky)
DESCRIPTION:Live-Übetragung auf Sky. \n
URL:http://fussballplan.sn-server.de/index.php/event/tsg-1899-hoffenheim-hertha-bsc-sky-2-2-6-3/
CATEGORIES:Bundesliga
END:VEVENT
END:VCALENDAR