BEGIN:VCALENDAR
VERSION:2.0
PRODID:-//SN Fußballplan - ECPv4.5.10.1//NONSGML v1.0//EN
CALSCALE:GREGORIAN
METHOD:PUBLISH
X-WR-CALNAME:SN Fußballplan
X-ORIGINAL-URL:http://fussballplan.sn-server.de
X-WR-CALDESC:Events for SN Fußballplan
BEGIN:VEVENT
DTSTART;TZID=Europe/Berlin:20170930T153000
DTEND;TZID=Europe/Berlin:20170930T173000
DTSTAMP:20260425T155233
CREATED:20170821T141502Z
LAST-MODIFIED:20170914T131413Z
UID:219-1506785400-1506792600@fussballplan.sn-server.de
SUMMARY:Borussia Mönchengladbach - Hannover 96 (Sky)
DESCRIPTION:Live-Übetragung auf Sky. \n
URL:http://fussballplan.sn-server.de/index.php/event/tsg-1899-hoffenheim-hertha-bsc-sky-2-2-6-5-2-2-4/
CATEGORIES:Bundesliga
END:VEVENT
END:VCALENDAR