BEGIN:VCALENDAR
VERSION:2.0
PRODID:-//SN Fußballplan - ECPv4.5.10.1//NONSGML v1.0//EN
CALSCALE:GREGORIAN
METHOD:PUBLISH
X-WR-CALNAME:SN Fußballplan
X-ORIGINAL-URL:http://fussballplan.sn-server.de
X-WR-CALDESC:Events for SN Fußballplan
BEGIN:VEVENT
DTSTART;TZID=Europe/Berlin:20171001T180000
DTEND;TZID=Europe/Berlin:20171001T200000
DTSTAMP:20260425T155349
CREATED:20170821T141502Z
LAST-MODIFIED:20170914T132018Z
UID:229-1506880800-1506888000@fussballplan.sn-server.de
SUMMARY:1. FC Köln - RB Leipzig (Sky)
DESCRIPTION:Live-Übetragung auf Sky. \n
URL:http://fussballplan.sn-server.de/index.php/event/tsg-1899-hoffenheim-hertha-bsc-sky-2-2-6-5-2-2-8/
CATEGORIES:Bundesliga
END:VEVENT
END:VCALENDAR