BEGIN:VCALENDAR
VERSION:2.0
PRODID:-//SN Fußballplan - ECPv4.5.10.1//NONSGML v1.0//EN
CALSCALE:GREGORIAN
METHOD:PUBLISH
X-WR-CALNAME:SN Fußballplan
X-ORIGINAL-URL:http://fussballplan.sn-server.de
X-WR-CALDESC:Events for SN Fußballplan
BEGIN:VEVENT
DTSTART;TZID=Europe/Berlin:20170924T153000
DTEND;TZID=Europe/Berlin:20170924T173000
DTSTAMP:20260425T173740
CREATED:20170821T141502Z
LAST-MODIFIED:20170914T130514Z
UID:211-1506267000-1506274200@fussballplan.sn-server.de
SUMMARY:Hannover 96 - 1. FC Köln (Sky)
DESCRIPTION:Live-Übetragung auf Sky. \n
URL:http://fussballplan.sn-server.de/index.php/event/tsg-1899-hoffenheim-hertha-bsc-sky-2-2-6-5-2/
CATEGORIES:Bundesliga
END:VEVENT
END:VCALENDAR