BEGIN:VCALENDAR
VERSION:2.0
PRODID:-//SN Fußballplan - ECPv4.5.10.1//NONSGML v1.0//EN
CALSCALE:GREGORIAN
METHOD:PUBLISH
X-WR-CALNAME:SN Fußballplan
X-ORIGINAL-URL:http://fussballplan.sn-server.de
X-WR-CALDESC:Events for SN Fußballplan
BEGIN:VEVENT
DTSTART;TZID=Europe/Berlin:20170923T183000
DTEND;TZID=Europe/Berlin:20170923T203000
DTSTAMP:20260425T172625
CREATED:20170821T141502Z
LAST-MODIFIED:20170914T130050Z
UID:209-1506191400-1506198600@fussballplan.sn-server.de
SUMMARY:Borussia Dortmund - Borussia Mönchengladbach (Sky)
DESCRIPTION:Live-Übetragung auf Sky. \n
URL:http://fussballplan.sn-server.de/index.php/event/tsg-1899-hoffenheim-hertha-bsc-sky-2-2-6-5/
CATEGORIES:Bundesliga
END:VEVENT
END:VCALENDAR