BEGIN:VCALENDAR
VERSION:2.0
PRODID:-//SN Fußballplan - ECPv4.5.10.1//NONSGML v1.0//EN
CALSCALE:GREGORIAN
METHOD:PUBLISH
X-WR-CALNAME:SN Fußballplan
X-ORIGINAL-URL:http://fussballplan.sn-server.de
X-WR-CALDESC:Events for SN Fußballplan
BEGIN:VEVENT
DTSTART;TZID=Europe/Berlin:20170826T153000
DTEND;TZID=Europe/Berlin:20170826T171500
DTSTAMP:20260425T185537
CREATED:20170821T141147Z
LAST-MODIFIED:20170821T142441Z
UID:53-1503761400-1503767700@fussballplan.sn-server.de
SUMMARY:VfB Stuttgart - 1. FSV Mainz 05 (Sky)
DESCRIPTION:Live-Übetragung auf Sky. \n
URL:http://fussballplan.sn-server.de/index.php/event/vfb-stuttgart-1-fsv-mainz-05-sky/
CATEGORIES:Bundesliga
END:VEVENT
END:VCALENDAR